BEGIN:VCALENDAR
VERSION:2.0
PRODID:-//Fargo Moorhead Quilters - ECPv6.15.20//NONSGML v1.0//EN
CALSCALE:GREGORIAN
METHOD:PUBLISH
X-ORIGINAL-URL:https://fmquilters.org
X-WR-CALDESC:Events for Fargo Moorhead Quilters
REFRESH-INTERVAL;VALUE=DURATION:PT1H
X-Robots-Tag:noindex
X-PUBLISHED-TTL:PT1H
BEGIN:VTIMEZONE
TZID:America/Chicago
BEGIN:DAYLIGHT
TZOFFSETFROM:-0600
TZOFFSETTO:-0500
TZNAME:CDT
DTSTART:20250309T080000
END:DAYLIGHT
BEGIN:STANDARD
TZOFFSETFROM:-0500
TZOFFSETTO:-0600
TZNAME:CST
DTSTART:20251102T070000
END:STANDARD
BEGIN:DAYLIGHT
TZOFFSETFROM:-0600
TZOFFSETTO:-0500
TZNAME:CDT
DTSTART:20260308T080000
END:DAYLIGHT
BEGIN:STANDARD
TZOFFSETFROM:-0500
TZOFFSETTO:-0600
TZNAME:CST
DTSTART:20261101T070000
END:STANDARD
BEGIN:DAYLIGHT
TZOFFSETFROM:-0600
TZOFFSETTO:-0500
TZNAME:CDT
DTSTART:20270314T080000
END:DAYLIGHT
BEGIN:STANDARD
TZOFFSETFROM:-0500
TZOFFSETTO:-0600
TZNAME:CST
DTSTART:20271107T070000
END:STANDARD
END:VTIMEZONE
BEGIN:VEVENT
DTSTART;VALUE=DATE:20260312
DTEND;VALUE=DATE:20260424
DTSTAMP:20260420T043522
CREATED:20260311T161914Z
LAST-MODIFIED:20260311T163231Z
UID:54187-1773273600-1776988799@fmquilters.org
SUMMARY:Quilters on the Prairie | Fibre Arts & Quilt Exhibition
DESCRIPTION:Southwest Art Gallery & Science Center with the Quilters on the Prairie Guild invites you to celebrate the creativity\, skill\, and tradition of regional fiber artists and quilters. \nMarch 12 – April 23\, 2026 \nWednesdays\, Thursdays\, Saturdays\, Sundays 1pm-4pm \n99 2nd St East\, Dickinson \nAvailability and registration information can be found on the event website. \n\nThis is a courtesy posting on behalf of the submitting organization. Please confirm details from the organization directly. \n\nO
URL:https://fmquilters.org/event/quilters-on-the-prairie-fibre-arts-quilt-exhibition/
LOCATION:Southwest Art Gallery & Science Center\, 99 2nd St. East\, Dickinson\, ND\, 58601\, United States
CATEGORIES:Exhibition,Quilt Shows
ORGANIZER;CN="Quilters on the Prairie":MAILTO:janderson@ndsupernet.com
END:VEVENT
BEGIN:VEVENT
DTSTART;VALUE=DATE:20260321
DTEND;VALUE=DATE:20260824
DTSTAMP:20260420T043522
CREATED:20260311T163214Z
LAST-MODIFIED:20260311T163214Z
UID:54195-1774051200-1787529599@fmquilters.org
SUMMARY:Plains Art Museum | Color Improvisations 3
DESCRIPTION:The 42 large quits were created just for this traveling exhibit and curated by celebrated artist Nancy Crow\, featuring quiltmakers from the US\, Canada\, and New Zealand. The quilts reflect a remarkable range of artistic voices\, yet they share a common commitment to innovation. Viewers will encounter bold compositions\, daring palettes\, and meticulous craftsmanship that push the boundaries of the medium. The exhibit toured in Germany in 2024. Its North American debut was at the International Quilt Museum in Lincoln\, NE\, in 2025. The exhibit opens March 21st and will be on display through August 23rd. \nAdmission to Plains Art Museum is FREE thanks to support from Art Bridges Foundation’s Access for All program; the North Dakota Council on the Arts\, which receives funding from the state legislature and the National Endowment for the Arts; The Arts Partnership\, with support from the Cities of Fargo\, Moorhead\, and West Fargo; the McKnight Foundation; the FUNd at Plains Art Museum; Giving Hearts Day donors; and Plains Art Museum members and donors. \nMuseum hours are 11-5pm every day and open until 9pm on Thursday. \nExhibit Tour April 9\, 6-6:45pm Pre-register (Free) \n\nThis is a courtesy posting on behalf of the submitting organization. Please confirm details from the organization directly. \n\nO
URL:https://fmquilters.org/event/plains-art-museum-color-improvisations-3/
LOCATION:Plains Art Museum\, 704 First Ave N\, Fargo\, ND\, 58103\, United States
CATEGORIES:Exhibition,Quilt Shows
END:VEVENT
BEGIN:VEVENT
DTSTART;VALUE=DATE:20260417
DTEND;VALUE=DATE:20260419
DTSTAMP:20260420T043522
CREATED:20260202T162232Z
LAST-MODIFIED:20260213T172413Z
UID:53946-1776384000-1776556799@fmquilters.org
SUMMARY:FMQ | A Weekend With...Amy Munson
DESCRIPTION:Fargo Moorhead Quilters present a weekend with Amy Munson. In her professional life\, Amy works for the State Historical Society of North Dakota in the Archaeology and Historic Preservation Division. Her passion for history and preservation is evident in the quilts she creates using both traditional designs and contemporary techniques. Amy will share her art with FMQ through a series of events. Registration is required for each class. The trunk show will be presented during the monthly meet-up. \nHistoric Village Wool Applique – The Tudor Cottage\nWhen: Friday April 17\, 9-4pm (Lunch included)\nWhere: First Congregational United Church of Christ (Lower Level)\, 406 8th St\, Moorhead\nClass Fee: $80 \nHome Sweet Home Fabric Collage\nWhen: Saturday\, April 18\, 9-12pm (Lunch included)\nWhere: First Congregational United Church of Christ (Lower Level)\, 406 8th St\, Moorhead\nClass Fee: $40 \nArt Quilts by Amy – Trunk Show\nWhen: Saturday\, April 18\, 1:00pm-2:30pm\nAmy will share many of the award-winning art quilts she has created through the years and share her journey as an artist during the monthly meet-up.
URL:https://fmquilters.org/event/a-weekend-with-amy-munson/
LOCATION:First Congregational UCC\, 406 8th St S\, Moorhead\, 56560\, United States
CATEGORIES:Education,Lecture,Special Events
ORGANIZER;CN="Fargo Moorhead Quilters":MAILTO:admin@fmquilters.org
END:VEVENT
BEGIN:VEVENT
DTSTART;TZID=America/Chicago:20260418T120000
DTEND;TZID=America/Chicago:20260418T150000
DTSTAMP:20260420T043522
CREATED:20260202T163612Z
LAST-MODIFIED:20260202T164645Z
UID:53970-1776513600-1776524400@fmquilters.org
SUMMARY:FMQ | Monthly Meet-Up
DESCRIPTION:Program: Amy Munson Trunk Show \nIn her professional life\, Amy works for the State Historical Society of North Dakota in the Archaeology and Historic Preservation Division. Her passion for history and preservation is evident in the quilts she creates using both traditional designs and contemporary techniques. Amy will share many of the award-winning art quilts she has created through the years and share her journey as an artist.
URL:https://fmquilters.org/event/fmq-monthly-meet-up-202604/
LOCATION:First Congregational UCC\, 406 8th St S\, Moorhead\, 56560\, United States
CATEGORIES:Meetings
ORGANIZER;CN="Fargo Moorhead Quilters":MAILTO:admin@fmquilters.org
END:VEVENT
BEGIN:VEVENT
DTSTART;TZID=America/Chicago:20260502T100000
DTEND;TZID=America/Chicago:20260502T120000
DTSTAMP:20260420T043522
CREATED:20260418T233030Z
LAST-MODIFIED:20260418T233030Z
UID:54307-1777716000-1777723200@fmquilters.org
SUMMARY:North Star Quilters Guild | This and That Quilts Trunk Show
DESCRIPTION:This and That Quilts Trunk Show with Kathleen Moorhead Johnson of August Wind Quilt Design. \nThe public is welcome. $12 admission at the door. Free to current NSQG members. \n\nThis is a courtesy posting on behalf of the submitting organization. Please confirm details from the organization directly. \n\n 
URL:https://fmquilters.org/event/north-star-quilters-guild-this-and-that-quilts-trunk-show/
LOCATION:Our Savior’s Lutheran Church\, 1515 5th Ave NW\, East Grand Forks\, MN\, 56721\, United States
CATEGORIES:Lecture
END:VEVENT
BEGIN:VEVENT
DTSTART;TZID=America/Chicago:20260516T120000
DTEND;TZID=America/Chicago:20260516T150000
DTSTAMP:20260420T043522
CREATED:20260418T185418Z
LAST-MODIFIED:20260419T002526Z
UID:54303-1778932800-1778943600@fmquilters.org
SUMMARY:FMQ | Monthly Meet-Up
DESCRIPTION:General member meeting \nEducation- Making Quilt Ribbons for MQE starts at 10 am. All are welcome to attend. \nProgram – Aying Zhang will share handwoven fabrics from her childhood home. She now designs and sells clothing made from these vintage textiles at her shop\, JOY Studio in Fargo.
URL:https://fmquilters.org/event/fmq-monthly-meet-up-2/
LOCATION:First Congregational UCC\, 406 8th St S\, Moorhead\, 56560\, United States
CATEGORIES:Meetings
ORGANIZER;CN="Fargo Moorhead Quilters":MAILTO:admin@fmquilters.org
END:VEVENT
BEGIN:VEVENT
DTSTART;TZID=America/Chicago:20260611T073000
DTEND;TZID=America/Chicago:20260611T213000
DTSTAMP:20260420T043522
CREATED:20260416T180609Z
LAST-MODIFIED:20260416T180610Z
UID:54285-1781163000-1781213400@fmquilters.org
SUMMARY:FMQ | MN Quilt Show Excursion
DESCRIPTION:Register online for a fun day with pals at the MN Quilt Show in St. Cloud\, MN. \nItinerary:\n• 7:30 am – Depart 13th Ave Cash Wise\, Fargo parking lot\n• 10:30 am – Arrive at River’s Edge Convention Center\, St. Cloud\n• Lunch: on your own\n• 4:00 pm – Depart River’s Edge Convention Center\, St. Cloud\n• 6:00 pm – Arrive at Pizza Ranch\, Alexandria. Dinner on your own at PR or another restaurant\n• 7:00 pm – Depart Pizza Ranch\, Alexandria\n• 9:15 pm – Arrive at 13th Ave Cash Wise parking lot\, Fargo
URL:https://fmquilters.org/event/fmq-mn-quilt-show-excursion/
LOCATION:St. Cloud River’s Edge Convention Center\, 10 4th Ave S.\, St. Cloud\, MN\, United States
CATEGORIES:Excursion
ORGANIZER;CN="Fargo Moorhead Quilters":MAILTO:admin@fmquilters.org
END:VEVENT
BEGIN:VEVENT
DTSTART;TZID=America/Chicago:20260620T120000
DTEND;TZID=America/Chicago:20260620T150000
DTSTAMP:20260420T043522
CREATED:20260418T185619Z
LAST-MODIFIED:20260419T002948Z
UID:54305-1781956800-1781967600@fmquilters.org
SUMMARY:FMQ | Monthly Meet-Up
DESCRIPTION:General member meetup \nEducation: Scrappy Pin Cushions taught by Mary Belcourt. Register here. \nProgram: Susan Curtis
URL:https://fmquilters.org/event/fmq-monthly-meet-up-3/
LOCATION:First Congregational UCC\, 406 8th St S\, Moorhead\, 56560\, United States
CATEGORIES:Meetings
ORGANIZER;CN="Fargo Moorhead Quilters":MAILTO:admin@fmquilters.org
END:VEVENT
BEGIN:VEVENT
DTSTART;TZID=America/Chicago:20260718T120000
DTEND;TZID=America/Chicago:20260718T150000
DTSTAMP:20260420T043522
CREATED:20260222T162922Z
LAST-MODIFIED:20260222T163218Z
UID:54057-1784376000-1784386800@fmquilters.org
SUMMARY:FMQ | Monthly Meet-Up - Summer Picnic
DESCRIPTION:Gather for a summer picnic at Trollwood Park in north Fargo.
URL:https://fmquilters.org/event/fmq-monthly-meet-up-summer-picnic/
LOCATION:Trollwood Park\, 3664 Elm St N\, Fargo\, ND\, 58102\, United States
CATEGORIES:Meetings
ORGANIZER;CN="Fargo Moorhead Quilters":MAILTO:admin@fmquilters.org
END:VEVENT
BEGIN:VEVENT
DTSTART;VALUE=DATE:20260925
DTEND;VALUE=DATE:20260927
DTSTAMP:20260420T043522
CREATED:20260213T174902Z
LAST-MODIFIED:20260213T175046Z
UID:54002-1790294400-1790467199@fmquilters.org
SUMMARY:FMQ | Metro Quilt Expo
DESCRIPTION:Save the date for the 2026 Metro Quilt Expo presented by Fargo Moorhead Quilters.
URL:https://fmquilters.org/event/fmq-metro-quilt-expo/
LOCATION:Veterans Memorial Arena\, 1201 7th Ave E\, West Fargo\, ND\, 58078\, United States
CATEGORIES:Quilt Shows
ATTACH;FMTTYPE=image/png:https://fmquilters.org/wp-content/uploads/2024/05/MQE-Logo.png
ORGANIZER;CN="Fargo Moorhead Quilters":MAILTO:admin@fmquilters.org
END:VEVENT
END:VCALENDAR